BEGIN:VCALENDAR
VERSION:2.0
CALSCALE:GREGORIAN
PRODID:adamgibbons/ics
METHOD:PUBLISH
X-PUBLISHED-TTL:PT1H
BEGIN:VEVENT
UID:390@buffalol.askapunk.net
SUMMARY:The Sneers\, Radical Operations and Blind Adam & The Federal League
	 (Chicago)
DTSTAMP:20260423T070134Z
DTSTART:20260514T230000Z
DTEND:20260515T030000Z
URL:https://buffalo.askapunk.net/event/the-sneers-radical-operations-and-bl
	ind-adam-and-the-federal-league-chicago
LOCATION:Area 54 - 3234 Main St
STATUS:CONFIRMED
CATEGORIES:Amy’s Place,Area 54,Blind Adam,Radical Operations,The Federal Le
	ague,The Sneers
END:VEVENT
END:VCALENDAR
